BEGIN:VCALENDAR
VERSION:2.0
PRODID:-//Sabre//Sabre VObject 4.5.8//EN
CALSCALE:GREGORIAN
BEGIN:VEVENT
UID:criticalmass-one-oxford-1645810200
DTSTAMP:20260424T180939Z
SUMMARY:Critical Mass Oxford 25.02.2022
DTSTART;TZID=Europe/Berlin:20220225T183000
DTEND;TZID=Europe/Berlin:20220225T203000
LOCATION:Broad Street
GEO:51.754373;-1.256186
URL;VALUE=URI:https://criticalmass.in/oxford/2022-02-25
END:VEVENT
END:VCALENDAR
