BEGIN:VCALENDAR
VERSION:2.0
PRODID:-//Sabre//Sabre VObject 4.5.8//EN
CALSCALE:GREGORIAN
BEGIN:VEVENT
UID:criticalmass-one-oxford-1640971800
DTSTAMP:20260422T100332Z
SUMMARY:Critical Mass Oxford 31.12.2021
DTSTART;TZID=Europe/Berlin:20211231T183000
DTEND;TZID=Europe/Berlin:20211231T203000
LOCATION:Broad Street
GEO:51.754373;-1.256186
URL;VALUE=URI:https://criticalmass.in/oxford/2021-12-31
END:VEVENT
END:VCALENDAR
