BEGIN:VCALENDAR
VERSION:2.0
PRODID:-//Sabre//Sabre VObject 4.5.8//EN
CALSCALE:GREGORIAN
BEGIN:VEVENT
UID:criticalmass-one-oxford-1619793000
DTSTAMP:20260421T210242Z
SUMMARY:Critical Mass Oxford 30.04.2021
DTSTART;TZID=Europe/Berlin:20210430T163000
DTEND;TZID=Europe/Berlin:20210430T183000
LOCATION:Broad Street
GEO:51.754373;-1.256186
URL;VALUE=URI:https://criticalmass.in/oxford/2021-04-30
END:VEVENT
END:VCALENDAR
