BEGIN:VCALENDAR
VERSION:2.0
PRODID:-//Sabre//Sabre VObject 4.5.8//EN
CALSCALE:GREGORIAN
BEGIN:VEVENT
UID:criticalmass-one-oxford-1616779800
DTSTAMP:20260422T184421Z
SUMMARY:Critical Mass Oxford 26.03.2021
DTSTART;TZID=Europe/Berlin:20210326T183000
DTEND;TZID=Europe/Berlin:20210326T203000
LOCATION:Broad Street
GEO:51.754373;-1.256186
URL;VALUE=URI:https://criticalmass.in/oxford/2021-03-26
END:VEVENT
END:VCALENDAR
