BEGIN:VCALENDAR
VERSION:2.0
PRODID:-//Sabre//Sabre VObject 4.5.8//EN
CALSCALE:GREGORIAN
BEGIN:VEVENT
UID:criticalmass-one-oxford-1614360600
DTSTAMP:20260422T081309Z
SUMMARY:Critical Mass Oxford 26.02.2021
DTSTART;TZID=Europe/Berlin:20210226T183000
DTEND;TZID=Europe/Berlin:20210226T203000
LOCATION:Broad Street
GEO:51.754373;-1.256186
URL;VALUE=URI:https://criticalmass.in/oxford/2021-02-26
END:VEVENT
END:VCALENDAR
