BEGIN:VCALENDAR
VERSION:2.0
PRODID:-//Sabre//Sabre VObject 4.5.8//EN
CALSCALE:GREGORIAN
BEGIN:VEVENT
UID:criticalmass-one-oxford-1608917400
DTSTAMP:20260421T110417Z
SUMMARY:Critical Mass Oxford 25.12.2020
DTSTART;TZID=Europe/Berlin:20201225T183000
DTEND;TZID=Europe/Berlin:20201225T203000
LOCATION:Broad Street
GEO:51.754373;-1.256186
URL;VALUE=URI:https://criticalmass.in/oxford/2020-12-25
END:VEVENT
END:VCALENDAR
