BEGIN:VCALENDAR
VERSION:2.0
PRODID:-//Sabre//Sabre VObject 4.5.8//EN
CALSCALE:GREGORIAN
BEGIN:VEVENT
UID:criticalmass-one-oxford-1604071800
DTSTAMP:20260422T101813Z
SUMMARY:Critical Mass Oxford 30.10.2020
DTSTART;TZID=Europe/Berlin:20201030T163000
DTEND;TZID=Europe/Berlin:20201030T183000
LOCATION:Broad Street
GEO:51.754373;-1.256186
URL;VALUE=URI:https://criticalmass.in/oxford/2020-10-30
END:VEVENT
END:VCALENDAR
