BEGIN:VCALENDAR
VERSION:2.0
PRODID:-//Sabre//Sabre VObject 4.5.8//EN
CALSCALE:GREGORIAN
BEGIN:VEVENT
UID:criticalmass-one-oxford-1601051400
DTSTAMP:20260421T223309Z
SUMMARY:Critical Mass Oxford 25.09.2020
DTSTART;TZID=Europe/Berlin:20200925T183000
DTEND;TZID=Europe/Berlin:20200925T203000
LOCATION:Broad Street
GEO:51.754373;-1.256186
URL;VALUE=URI:https://criticalmass.in/oxford/2020-09-25
END:VEVENT
END:VCALENDAR
