BEGIN:VCALENDAR
VERSION:2.0
PRODID:-//Sabre//Sabre VObject 4.5.8//EN
CALSCALE:GREGORIAN
BEGIN:VEVENT
UID:criticalmass-one-oxford-1598632200
DTSTAMP:20260423T064918Z
SUMMARY:Critical Mass Oxford 28.08.2020
DTSTART;TZID=Europe/Berlin:20200828T183000
DTEND;TZID=Europe/Berlin:20200828T203000
LOCATION:Broad Street
GEO:51.754373;-1.256186
URL;VALUE=URI:https://criticalmass.in/oxford/2020-08-28
END:VEVENT
END:VCALENDAR
