BEGIN:VCALENDAR
VERSION:2.0
PRODID:-//Sabre//Sabre VObject 4.5.8//EN
CALSCALE:GREGORIAN
BEGIN:VEVENT
UID:criticalmass-one-oxford-1593189000
DTSTAMP:20260422T065020Z
SUMMARY:Critical Mass Oxford 26.06.2020
DTSTART;TZID=Europe/Berlin:20200626T183000
DTEND;TZID=Europe/Berlin:20200626T203000
LOCATION:Broad Street
GEO:51.754373;-1.256186
URL;VALUE=URI:https://criticalmass.in/oxford/2020-06-26
END:VEVENT
END:VCALENDAR
