BEGIN:VCALENDAR
VERSION:2.0
PRODID:-//Sabre//Sabre VObject 4.5.8//EN
CALSCALE:GREGORIAN
BEGIN:VEVENT
UID:criticalmass-one-oxford-1587745800
DTSTAMP:20260422T191644Z
SUMMARY:Critical Mass Oxford 24.04.2020
DTSTART;TZID=Europe/Berlin:20200424T183000
DTEND;TZID=Europe/Berlin:20200424T203000
LOCATION:Broad Street
GEO:51.754373;-1.256186
URL;VALUE=URI:https://criticalmass.in/oxford/2020-04-24
END:VEVENT
END:VCALENDAR
