BEGIN:VCALENDAR
VERSION:2.0
PRODID:-//Sabre//Sabre VObject 4.5.8//EN
CALSCALE:GREGORIAN
BEGIN:VEVENT
UID:criticalmass-one-ostfildern-1695474000
DTSTAMP:20260423T015701Z
SUMMARY:Kidical Mass Ostfildern 23.09.2023
DTSTART;TZID=Europe/Berlin:20230923T150000
DTEND;TZID=Europe/Berlin:20230923T170000
LOCATION:Grundschule Ruit
GEO:48.726945;9.253955
URL;VALUE=URI:https://criticalmass.in/ostfildern/kidical-mass-ostfildern-se
 ptember-2023
END:VEVENT
END:VCALENDAR
