BEGIN:VCALENDAR
VERSION:2.0
PRODID:-//Sabre//Sabre VObject 4.5.8//EN
CALSCALE:GREGORIAN
BEGIN:VEVENT
UID:criticalmass-one-ostfildern-1747486800
DTSTAMP:20260423T065042Z
SUMMARY:Kidical Mass Ostfildern 17.05.2025
DESCRIPTION:Ab 14.45 UHr schmücken wir unsere Räder\, dann fährt der bun
 te Fahrradzug mit viel Geklingel auf gesicherten Wegen durch Ostfildern. A
 m Spielplatz wartet der Eismann auf Euch!
DTSTART;TZID=Europe/Berlin:20250517T150000
DTEND;TZID=Europe/Berlin:20250517T170000
LOCATION:Ostfildern Grundschule Ruit\, Justinus-Kerner-Weg 40
GEO:48.726945;9.253955
URL;VALUE=URI:https://criticalmass.in/ostfildern/kidical-mass-ostfildern-ma
 i-2025
END:VEVENT
END:VCALENDAR
