BEGIN:VCALENDAR
VERSION:2.0
PRODID:-//Sabre//Sabre VObject 4.5.8//EN
CALSCALE:GREGORIAN
BEGIN:VEVENT
UID:criticalmass-one-osterholz-scharmbeck-1759510800
DTSTAMP:20260425T234503Z
SUMMARY:Critical Mass OHZ 03.10.2025
DTSTART;TZID=Europe/Berlin:20251003T190000
DTEND;TZID=Europe/Berlin:20251003T210000
URL;VALUE=URI:https://criticalmass.in/osterholz-scharmbeck/2025-10-03
END:VEVENT
END:VCALENDAR
