BEGIN:VCALENDAR
VERSION:2.0
PRODID:-//Sabre//Sabre VObject 4.5.8//EN
CALSCALE:GREGORIAN
BEGIN:VEVENT
UID:criticalmass-one-osterholz-scharmbeck-1709316000
DTSTAMP:20260425T154051Z
SUMMARY:Critical Mass OHZ 01.03.2024
DTSTART;TZID=Europe/Berlin:20240301T190000
DTEND;TZID=Europe/Berlin:20240301T210000
URL;VALUE=URI:https://criticalmass.in/osterholz-scharmbeck/2024-03-01
END:VEVENT
END:VCALENDAR
