BEGIN:VCALENDAR
VERSION:2.0
PRODID:-//Sabre//Sabre VObject 4.5.8//EN
CALSCALE:GREGORIAN
BEGIN:VEVENT
UID:criticalmass-one-osterholz-scharmbeck-1604685600
DTSTAMP:20260425T200126Z
SUMMARY:Critical Mass OHZ 06.11.2020
DTSTART;TZID=Europe/Berlin:20201106T190000
DTEND;TZID=Europe/Berlin:20201106T210000
URL;VALUE=URI:https://criticalmass.in/osterholz-scharmbeck/2020-11-06
END:VEVENT
END:VCALENDAR
