BEGIN:VCALENDAR
VERSION:2.0
PRODID:-//Sabre//Sabre VObject 4.5.8//EN
CALSCALE:GREGORIAN
BEGIN:VEVENT
UID:criticalmass-one-osterholz-scharmbeck-1599238800
DTSTAMP:20260425T165545Z
SUMMARY:Critical Mass OHZ 04.09.2020
DTSTART;TZID=Europe/Berlin:20200904T190000
DTEND;TZID=Europe/Berlin:20200904T210000
URL;VALUE=URI:https://criticalmass.in/osterholz-scharmbeck/2020-09-04
END:VEVENT
END:VCALENDAR
