BEGIN:VCALENDAR
VERSION:2.0
PRODID:-//Sabre//Sabre VObject 4.5.8//EN
CALSCALE:GREGORIAN
BEGIN:VEVENT
UID:criticalmass-one-osterholz-scharmbeck-1596819600
DTSTAMP:20260425T110052Z
SUMMARY:Critical Mass OHZ 07.08.2020
DTSTART;TZID=Europe/Berlin:20200807T190000
DTEND;TZID=Europe/Berlin:20200807T210000
URL;VALUE=URI:https://criticalmass.in/osterholz-scharmbeck/2020-08-07
END:VEVENT
END:VCALENDAR
