BEGIN:VCALENDAR
VERSION:2.0
PRODID:-//Sabre//Sabre VObject 4.5.8//EN
CALSCALE:GREGORIAN
BEGIN:VEVENT
UID:criticalmass-one-osterholz-scharmbeck-1562346000
DTSTAMP:20260423T104109Z
SUMMARY:Critical Mass OHZ 05.07.2019
DTSTART;TZID=Europe/Berlin:20190705T190000
DTEND;TZID=Europe/Berlin:20190705T210000
URL;VALUE=URI:https://criticalmass.in/osterholz-scharmbeck/2019-07-05
END:VEVENT
END:VCALENDAR
