BEGIN:VCALENDAR
VERSION:2.0
PRODID:-//Sabre//Sabre VObject 4.5.8//EN
CALSCALE:GREGORIAN
BEGIN:VEVENT
UID:criticalmass-one-osterholz-scharmbeck-1556902800
DTSTAMP:20260425T200126Z
SUMMARY:Critical Mass OHZ 03.05.2019
DTSTART;TZID=Europe/Berlin:20190503T190000
DTEND;TZID=Europe/Berlin:20190503T210000
URL;VALUE=URI:https://criticalmass.in/osterholz-scharmbeck/2019-05-03
END:VEVENT
END:VCALENDAR
