BEGIN:VCALENDAR
VERSION:2.0
PRODID:-//Sabre//Sabre VObject 4.5.8//EN
CALSCALE:GREGORIAN
BEGIN:VEVENT
UID:criticalmass-one-osterholz-scharmbeck-1546624800
DTSTAMP:20260425T165050Z
SUMMARY:Critical Mass OHZ 04.01.2019
DTSTART;TZID=Europe/Berlin:20190104T190000
DTEND;TZID=Europe/Berlin:20190104T210000
URL;VALUE=URI:https://criticalmass.in/osterholz-scharmbeck/2019-01-04
END:VEVENT
END:VCALENDAR
