BEGIN:VCALENDAR
VERSION:2.0
PRODID:-//Sabre//Sabre VObject 4.5.8//EN
CALSCALE:GREGORIAN
BEGIN:VEVENT
UID:criticalmass-one-osterholz-scharmbeck-1536339600
DTSTAMP:20260424T181753Z
SUMMARY:Critical Mass OHZ 07.09.2018
DTSTART;TZID=Europe/Berlin:20180907T190000
DTEND;TZID=Europe/Berlin:20180907T210000
URL;VALUE=URI:https://criticalmass.in/osterholz-scharmbeck/2018-09-07
END:VEVENT
END:VCALENDAR
