BEGIN:VCALENDAR
VERSION:2.0
PRODID:-//Sabre//Sabre VObject 4.5.8//EN
CALSCALE:GREGORIAN
BEGIN:VEVENT
UID:criticalmass-one-osterholz-scharmbeck-1530896400
DTSTAMP:20260423T104124Z
SUMMARY:Critical Mass OHZ 06.07.2018
DTSTART;TZID=Europe/Berlin:20180706T190000
DTEND;TZID=Europe/Berlin:20180706T210000
URL;VALUE=URI:https://criticalmass.in/osterholz-scharmbeck/2018-07-06
END:VEVENT
END:VCALENDAR
