BEGIN:VCALENDAR
VERSION:2.0
PRODID:-//Sabre//Sabre VObject 4.5.8//EN
CALSCALE:GREGORIAN
BEGIN:VEVENT
UID:criticalmass-one-osterholz-scharmbeck-1525453200
DTSTAMP:20260423T234544Z
SUMMARY:Critical Mass OHZ 04.05.2018
DTSTART;TZID=Europe/Berlin:20180504T190000
DTEND;TZID=Europe/Berlin:20180504T210000
URL;VALUE=URI:https://criticalmass.in/osterholz-scharmbeck/2018-05-04
END:VEVENT
END:VCALENDAR
