BEGIN:VCALENDAR
VERSION:2.0
PRODID:-//Sabre//Sabre VObject 4.5.8//EN
CALSCALE:GREGORIAN
BEGIN:VEVENT
UID:criticalmass-one-osterholz-scharmbeck-1512151200
DTSTAMP:20260424T092729Z
SUMMARY:Critical Mass OHZ 01.12.2017
DTSTART;TZID=Europe/Berlin:20171201T190000
DTEND;TZID=Europe/Berlin:20171201T210000
URL;VALUE=URI:https://criticalmass.in/osterholz-scharmbeck/2017-12-01
END:VEVENT
END:VCALENDAR
