BEGIN:VCALENDAR
VERSION:2.0
PRODID:-//Sabre//Sabre VObject 4.5.8//EN
CALSCALE:GREGORIAN
BEGIN:VEVENT
UID:criticalmass-one-osterholz-scharmbeck-1507309200
DTSTAMP:20260424T092728Z
SUMMARY:Critical Mass OHZ 06.10.2017
DTSTART;TZID=Europe/Berlin:20171006T190000
DTEND;TZID=Europe/Berlin:20171006T210000
URL;VALUE=URI:https://criticalmass.in/osterholz-scharmbeck/2017-10-06
END:VEVENT
END:VCALENDAR
