BEGIN:VCALENDAR
VERSION:2.0
PRODID:-//Sabre//Sabre VObject 4.5.8//EN
CALSCALE:GREGORIAN
BEGIN:VEVENT
UID:criticalmass-one-osterholz-scharmbeck-1504285200
DTSTAMP:20260423T131338Z
SUMMARY:Critical Mass OHZ 01.09.2017
DTSTART;TZID=Europe/Berlin:20170901T190000
DTEND;TZID=Europe/Berlin:20170901T210000
URL;VALUE=URI:https://criticalmass.in/osterholz-scharmbeck/2017-09-01
END:VEVENT
END:VCALENDAR
