BEGIN:VCALENDAR
VERSION:2.0
PRODID:-//Sabre//Sabre VObject 4.5.8//EN
CALSCALE:GREGORIAN
BEGIN:VEVENT
UID:criticalmass-one-osterholz-scharmbeck-1501866000
DTSTAMP:20260423T130344Z
SUMMARY:Critical Mass OHZ 04.08.2017
DTSTART;TZID=Europe/Berlin:20170804T190000
DTEND;TZID=Europe/Berlin:20170804T210000
URL;VALUE=URI:https://criticalmass.in/osterholz-scharmbeck/2017-08-04
END:VEVENT
END:VCALENDAR
