BEGIN:VCALENDAR
VERSION:2.0
PRODID:-//Sabre//Sabre VObject 4.5.8//EN
CALSCALE:GREGORIAN
BEGIN:VEVENT
UID:criticalmass-one-osterholz-scharmbeck-1496422800
DTSTAMP:20260424T110128Z
SUMMARY:Critical Mass OHZ 02.06.2017
DTSTART;TZID=Europe/Berlin:20170602T190000
DTEND;TZID=Europe/Berlin:20170602T210000
URL;VALUE=URI:https://criticalmass.in/osterholz-scharmbeck/2017-06-02
END:VEVENT
END:VCALENDAR
