BEGIN:VCALENDAR
VERSION:2.0
PRODID:-//Sabre//Sabre VObject 4.5.8//EN
CALSCALE:GREGORIAN
BEGIN:VEVENT
UID:criticalmass-one-osterholz-scharmbeck-1486144800
DTSTAMP:20260423T130342Z
SUMMARY:Critical Mass OHZ 03.02.2017
DTSTART;TZID=Europe/Berlin:20170203T190000
DTEND;TZID=Europe/Berlin:20170203T210000
URL;VALUE=URI:https://criticalmass.in/osterholz-scharmbeck/2017-02-03
END:VEVENT
END:VCALENDAR
