BEGIN:VCALENDAR
VERSION:2.0
PRODID:-//Sabre//Sabre VObject 4.5.8//EN
CALSCALE:GREGORIAN
BEGIN:VEVENT
UID:criticalmass-one-osterholz-scharmbeck-1417802400
DTSTAMP:20260426T022149Z
SUMMARY:Critical Mass OHZ 05.12.2014
DTSTART;TZID=Europe/Berlin:20141205T190000
DTEND;TZID=Europe/Berlin:20141205T210000
URL;VALUE=URI:https://criticalmass.in/osterholz-scharmbeck/2014-12-05
END:VEVENT
END:VCALENDAR
