BEGIN:VCALENDAR
VERSION:2.0
PRODID:-//Sabre//Sabre VObject 4.5.8//EN
CALSCALE:GREGORIAN
BEGIN:VEVENT
UID:criticalmass-one-osterholz-scharmbeck-1409936400
DTSTAMP:20260425T200119Z
SUMMARY:Critical Mass OHZ 05.09.2014
DTSTART;TZID=Europe/Berlin:20140905T190000
DTEND;TZID=Europe/Berlin:20140905T210000
URL;VALUE=URI:https://criticalmass.in/osterholz-scharmbeck/2014-09-05
END:VEVENT
END:VCALENDAR
