BEGIN:VCALENDAR
VERSION:2.0
PRODID:-//Sabre//Sabre VObject 4.5.8//EN
CALSCALE:GREGORIAN
BEGIN:VEVENT
UID:criticalmass-one-osterholz-scharmbeck-1396630800
DTSTAMP:20260425T105545Z
SUMMARY:Critical Mass OHZ 04.04.2014
DTSTART;TZID=Europe/Berlin:20140404T190000
DTEND;TZID=Europe/Berlin:20140404T210000
URL;VALUE=URI:https://criticalmass.in/osterholz-scharmbeck/2014-04-04
END:VEVENT
END:VCALENDAR
