BEGIN:VCALENDAR
VERSION:2.0
PRODID:-//Sabre//Sabre VObject 4.5.8//EN
CALSCALE:GREGORIAN
BEGIN:VEVENT
UID:criticalmass-one-osnabruck-1753462800
DTSTAMP:20260424T041628Z
SUMMARY:Critical Mass Osnabrück 25.07.2025
DTSTART;TZID=Europe/Berlin:20250725T190000
DTEND;TZID=Europe/Berlin:20250725T210000
LOCATION:Stadthalle Osnabrück
GEO:52.271672;8.041880
URL;VALUE=URI:https://criticalmass.in/osnabruck/2025-07-25
END:VEVENT
END:VCALENDAR
