BEGIN:VCALENDAR
VERSION:2.0
PRODID:-//Sabre//Sabre VObject 4.5.8//EN
CALSCALE:GREGORIAN
BEGIN:VEVENT
UID:criticalmass-one-osnabruck-1700848800
DTSTAMP:20260423T112309Z
SUMMARY:Critical Mass Osnabrück 24.11.2023
DTSTART;TZID=Europe/Berlin:20231124T190000
DTEND;TZID=Europe/Berlin:20231124T210000
LOCATION:Stadthalle Osnabrück
GEO:52.271672;8.041880
URL;VALUE=URI:https://criticalmass.in/osnabruck/2023-11-24
END:VEVENT
END:VCALENDAR
