BEGIN:VCALENDAR
VERSION:2.0
PRODID:-//Sabre//Sabre VObject 4.5.8//EN
CALSCALE:GREGORIAN
BEGIN:VEVENT
UID:criticalmass-one-osnabruck-1640973600
DTSTAMP:20260424T181039Z
SUMMARY:Critical Mass Osnabrück 31.12.2021
DTSTART;TZID=Europe/Berlin:20211231T190000
DTEND;TZID=Europe/Berlin:20211231T210000
LOCATION:Stadthalle Osnabrück
GEO:52.271672;8.041880
URL;VALUE=URI:https://criticalmass.in/osnabruck/2021-12-31
END:VEVENT
END:VCALENDAR
