BEGIN:VCALENDAR
VERSION:2.0
PRODID:-//Sabre//Sabre VObject 4.5.8//EN
CALSCALE:GREGORIAN
BEGIN:VEVENT
UID:criticalmass-one-osnabruck-1608314400
DTSTAMP:20260423T112232Z
SUMMARY:Critical Mass Osnabrück 18.12.2020 Diesmal Start an der Katherinen
 kirche!!!
DESCRIPTION:Wieder "fliegender Start " an der Katherinenkirche.  Seid bitte
  pünktlich.  Licht und Maske sind Pflicht.  Wir freuen uns auf euch ....
DTSTART;TZID=Europe/Berlin:20201218T190000
DTEND;TZID=Europe/Berlin:20201218T210000
LOCATION:Achtung ! Diesmal an der Katherinenkirche!!!
URL;VALUE=URI:https://criticalmass.in/osnabruck/2020-12-18
END:VEVENT
END:VCALENDAR
