BEGIN:VCALENDAR
VERSION:2.0
PRODID:-//Sabre//Sabre VObject 4.5.8//EN
CALSCALE:GREGORIAN
BEGIN:VEVENT
UID:criticalmass-one-osnabruck-1606500000
DTSTAMP:20260423T112222Z
SUMMARY:Critical Mass Osnabrück 27.11.2020 Diesmal Start an der Katherinen
 kirche!!!
DESCRIPTION:Veranstaltungshinweis : \nDie Critical Mass findet auch diesen 
 Monat statt  am 27.11 um 19 Uhr Stadt . \nTreffpunkt ist diesmal aber die 
 Katherinenkirche.  \nAlle Radfahrer sind herzlich eingeladen. \nBitte mit 
 Licht am Rad ! Maske nicht vergessen- Danke! \n\nHinweis: \nAktuelle Infos
  zur CM hier :\nCRITICAL MASS Osnabrück\nhttps://t.me/critical_mass_os\n\
 nChat zur CM und  Radfahrerthemen hier : \nhttps://t.me/joinchat/TYUkDh2Zu
 DOV38yEpgcCiA
DTSTART;TZID=Europe/Berlin:20201127T190000
DTEND;TZID=Europe/Berlin:20201127T210000
LOCATION:Achtung ! Diesmal an der Katherinenkirche!!!
GEO:52.271672;8.041880
URL;VALUE=URI:https://criticalmass.in/osnabruck/2020-11-27
END:VEVENT
END:VCALENDAR
