BEGIN:VCALENDAR
VERSION:2.0
PRODID:-//Sabre//Sabre VObject 4.5.8//EN
CALSCALE:GREGORIAN
BEGIN:VEVENT
UID:criticalmass-one-osnabruck-1604077200
DTSTAMP:20260423T101330Z
SUMMARY:Critical Mass Osnabrück 30.10.2020
DTSTART;TZID=Europe/Berlin:20201030T180000
DTEND;TZID=Europe/Berlin:20201030T200000
LOCATION:Stadthalle Osnabrück
GEO:52.271672;8.041880
URL;VALUE=URI:https://criticalmass.in/osnabruck/2020-10-30
END:VEVENT
END:VCALENDAR
