BEGIN:VCALENDAR
VERSION:2.0
PRODID:-//Sabre//Sabre VObject 4.5.8//EN
CALSCALE:GREGORIAN
BEGIN:VEVENT
UID:criticalmass-one-osnabruck-1590768000
DTSTAMP:20260424T220547Z
SUMMARY:Critical Mass Osnabrück 29.05.2020
DTSTART;TZID=Europe/Berlin:20200529T180000
DTEND;TZID=Europe/Berlin:20200529T200000
LOCATION:Stadthalle Osnabrück
GEO:52.271672;8.041880
URL;VALUE=URI:https://criticalmass.in/osnabruck/2020-05-29
END:VEVENT
END:VCALENDAR
