BEGIN:VCALENDAR
VERSION:2.0
PRODID:-//Sabre//Sabre VObject 4.5.8//EN
CALSCALE:GREGORIAN
BEGIN:VEVENT
UID:criticalmass-one-osnabruck-1569600000
DTSTAMP:20260424T025224Z
SUMMARY:Critical Mass Osnabrück 27.09.2019
DTSTART;TZID=Europe/Berlin:20190927T180000
DTEND;TZID=Europe/Berlin:20190927T200000
LOCATION:Stadthalle Osnabrück
GEO:52.271672;8.041880
URL;VALUE=URI:https://criticalmass.in/osnabruck/2019-09-27
END:VEVENT
END:VCALENDAR
