BEGIN:VCALENDAR
VERSION:2.0
PRODID:-//Sabre//Sabre VObject 4.5.8//EN
CALSCALE:GREGORIAN
BEGIN:VEVENT
UID:criticalmass-one-osnabruck-1522429200
DTSTAMP:20260423T172435Z
SUMMARY:Critical Mass Osnabrück 30.03.2018
DTSTART;TZID=Europe/Berlin:20180330T190000
DTEND;TZID=Europe/Berlin:20180330T210000
LOCATION:Stadthalle Osnabrück
GEO:52.271672;8.041880
URL;VALUE=URI:https://criticalmass.in/osnabruck/2018-03-30
END:VEVENT
END:VCALENDAR
