BEGIN:VCALENDAR
VERSION:2.0
PRODID:-//Sabre//Sabre VObject 4.5.8//EN
CALSCALE:GREGORIAN
BEGIN:VEVENT
UID:criticalmass-one-osnabruck-1506700800
DTSTAMP:20260423T082131Z
SUMMARY:Critical Mass Osnabrück 29.09.2017
DTSTART;TZID=Europe/Berlin:20170929T180000
DTEND;TZID=Europe/Berlin:20170929T200000
LOCATION:Stadthalle Osnabrück
GEO:52.271672;8.041880
URL;VALUE=URI:https://criticalmass.in/osnabruck/2017-09-29
END:VEVENT
END:VCALENDAR
