BEGIN:VCALENDAR
VERSION:2.0
PRODID:-//Sabre//Sabre VObject 4.5.8//EN
CALSCALE:GREGORIAN
BEGIN:VEVENT
UID:criticalmass-one-osnabruck-1498838400
DTSTAMP:20260424T100754Z
SUMMARY:Critical Mass Osnabrück 30.06.2017
DTSTART;TZID=Europe/Berlin:20170630T180000
DTEND;TZID=Europe/Berlin:20170630T200000
LOCATION:Stadthalle Osnabrück
GEO:52.271672;8.041880
URL;VALUE=URI:https://criticalmass.in/osnabruck/2017-06-30
END:VEVENT
END:VCALENDAR
