BEGIN:VCALENDAR
VERSION:2.0
PRODID:-//Sabre//Sabre VObject 4.5.8//EN
CALSCALE:GREGORIAN
BEGIN:VEVENT
UID:criticalmass-one-osnabruck-1485532800
DTSTAMP:20260423T234352Z
SUMMARY:Critical Mass Osnabrück 27.01.2017
DTSTART;TZID=Europe/Berlin:20170127T170000
DTEND;TZID=Europe/Berlin:20170127T190000
LOCATION:Stadthalle Osnabrück
GEO:52.271672;8.041880
URL;VALUE=URI:https://criticalmass.in/osnabruck/2017-01-27
END:VEVENT
END:VCALENDAR
