BEGIN:VCALENDAR
VERSION:2.0
PRODID:-//Sabre//Sabre VObject 4.5.8//EN
CALSCALE:GREGORIAN
BEGIN:VEVENT
UID:criticalmass-one-osnabruck-1483113600
DTSTAMP:20260423T154707Z
SUMMARY:Critical Mass Osnabrück 30.12.2016
DTSTART;TZID=Europe/Berlin:20161230T170000
DTEND;TZID=Europe/Berlin:20161230T190000
LOCATION:Stadthalle Osnabrück
GEO:52.271672;8.041880
URL;VALUE=URI:https://criticalmass.in/osnabruck/2016-12-30
END:VEVENT
END:VCALENDAR
