BEGIN:VCALENDAR
VERSION:2.0
PRODID:-//Sabre//Sabre VObject 4.5.8//EN
CALSCALE:GREGORIAN
BEGIN:VEVENT
UID:criticalmass-one-osnabruck-1480082400
DTSTAMP:20260423T184952Z
SUMMARY:Critical Mass Osnabrück 25.11.2016
DTSTART;TZID=Europe/Berlin:20161125T150000
DTEND;TZID=Europe/Berlin:20161125T170000
LOCATION:Stadthalle Osnabrück
GEO:52.271672;8.041880
URL;VALUE=URI:https://criticalmass.in/osnabruck/2016-11-25
END:VEVENT
END:VCALENDAR
