BEGIN:VCALENDAR
VERSION:2.0
PRODID:-//Sabre//Sabre VObject 4.5.8//EN
CALSCALE:GREGORIAN
BEGIN:VEVENT
UID:criticalmass-one-osnabruck-1446224400
DTSTAMP:20260424T013006Z
SUMMARY:Critical Mass Osnabrück 30.10.2015
DTSTART;TZID=Europe/Berlin:20151030T180000
DTEND;TZID=Europe/Berlin:20151030T200000
LOCATION:Stadthalle Osnabrück
GEO:52.271672;8.041880
URL;VALUE=URI:https://criticalmass.in/osnabruck/2015-10-30
END:VEVENT
END:VCALENDAR
