BEGIN:VCALENDAR
VERSION:2.0
PRODID:-//Sabre//Sabre VObject 4.5.8//EN
CALSCALE:GREGORIAN
BEGIN:VEVENT
UID:criticalmass-one-osnabruck-1414774800
DTSTAMP:20260424T092317Z
SUMMARY:Critical Mass Osnabrück 31.10.2014
DTSTART;TZID=Europe/Berlin:20141031T180000
DTEND;TZID=Europe/Berlin:20141031T200000
LOCATION:Stadthalle Osnabrück
GEO:52.271672;8.041880
URL;VALUE=URI:https://criticalmass.in/osnabruck/2014-10-31
END:VEVENT
END:VCALENDAR
