BEGIN:VCALENDAR
VERSION:2.0
PRODID:-//Sabre//Sabre VObject 4.5.8//EN
CALSCALE:GREGORIAN
BEGIN:VEVENT
UID:criticalmass-one-osnabruck-1411747200
DTSTAMP:20260424T181006Z
SUMMARY:Critical Mass Osnabrück 26.09.2014
DTSTART;TZID=Europe/Berlin:20140926T180000
DTEND;TZID=Europe/Berlin:20140926T200000
LOCATION:Stadthalle Osnabrück
GEO:52.271672;8.041880
URL;VALUE=URI:https://criticalmass.in/osnabruck/2014-09-26
END:VEVENT
END:VCALENDAR
